BEGIN:VCALENDAR
VERSION:2.0
PRODID:-// - ECPv6.15.12.2//NONSGML v1.0//EN
CALSCALE:GREGORIAN
METHOD:PUBLISH
X-ORIGINAL-URL:https://kolpingsfamilie-hoevelhof.de
X-WR-CALDESC:Veranstaltungen für 
REFRESH-INTERVAL;VALUE=DURATION:PT1H
X-Robots-Tag:noindex
X-PUBLISHED-TTL:PT1H
BEGIN:VTIMEZONE
TZID:Europe/Berlin
BEGIN:DAYLIGHT
TZOFFSETFROM:+0100
TZOFFSETTO:+0200
TZNAME:CEST
DTSTART:20240331T010000
END:DAYLIGHT
BEGIN:STANDARD
TZOFFSETFROM:+0200
TZOFFSETTO:+0100
TZNAME:CET
DTSTART:20241027T010000
END:STANDARD
BEGIN:DAYLIGHT
TZOFFSETFROM:+0100
TZOFFSETTO:+0200
TZNAME:CEST
DTSTART:20250330T010000
END:DAYLIGHT
BEGIN:STANDARD
TZOFFSETFROM:+0200
TZOFFSETTO:+0100
TZNAME:CET
DTSTART:20251026T010000
END:STANDARD
BEGIN:DAYLIGHT
TZOFFSETFROM:+0100
TZOFFSETTO:+0200
TZNAME:CEST
DTSTART:20260329T010000
END:DAYLIGHT
BEGIN:STANDARD
TZOFFSETFROM:+0200
TZOFFSETTO:+0100
TZNAME:CET
DTSTART:20261025T010000
END:STANDARD
END:VTIMEZONE
BEGIN:VEVENT
DTSTART;TZID=Europe/Berlin:20251213T150000
DTEND;TZID=Europe/Berlin:20251213T180000
DTSTAMP:20260421T143251
CREATED:20250815T060416Z
LAST-MODIFIED:20251114T101725Z
UID:8741-1765638000-1765648800@kolpingsfamilie-hoevelhof.de
SUMMARY:Advent mit dem Chor à la Carte
DESCRIPTION:Adventskonzert am Samstag\, den 13.12.2025 \n\nZu unseren kleinen kostenlosen Konzerten in der Hövelsenner Kapelle diesmal am Vorabend des dritten Advents laden wir herzlich ein! Immer zur vollen Stunde um 15:00\, 16:00 und 17:00 Uhr wird ein etwa halbstündiges\, weihnachtliches Konzertprogramm mit Liedern aus alter und moderner Zeit unter der Leitung von Volker Kukulenz geboten. Das idyllische Ambiente der Kapelle und die Nähe von Publikum und Sänger/innen erzeugen eine ganz besondere Stimmung. Singt gern mit\, das macht die vorweihnachtliche Atmosphäre komplett. \nIm Anschluss könnt Ihr mit Freunden und Bekannten Glühwein\, Weihnachtsgebäck und fröhliche Gespräche genießen. Wir freuen uns auf Euch!
URL:https://kolpingsfamilie-hoevelhof.de/event/advent-mit-dem-chor-a-la-carte/
LOCATION:Hövelsenner Kapelle\, Sennestraße Nr. 240\, Hövelhof\, 33161\, Deutschland
ATTACH;FMTTYPE=image/jpeg:https://kolpingsfamilie-hoevelhof.de/wp-content/uploads/2025/08/DSC_7324_2.jpg
END:VEVENT
BEGIN:VEVENT
DTSTART;TZID=Europe/Berlin:20251217T180000
DTEND;TZID=Europe/Berlin:20251217T210000
DTSTAMP:20260421T143251
CREATED:20251107T131627Z
LAST-MODIFIED:20251120T082107Z
UID:9332-1765994400-1766005200@kolpingsfamilie-hoevelhof.de
SUMMARY:Jahresabschluss
DESCRIPTION:Zum Endes des Jahres treffen wir uns in gemütlicher Runde. Dabei wollen wir auf die Aktivitäten\, Veranstaltungen und Ereignisse des Jahres zurückblicken. \nGetränke und eine Suppe sind im Angebot\, dazu werden wir sicher auch wieder das ein oder andere Lied hören und mitsingen. \nAnmeldung bis zum 10.12.2025 bei: \nRenate Lappe\, Tel.  05257 6502 oder 0176 57666152
URL:https://kolpingsfamilie-hoevelhof.de/event/jahresabschluss/
LOCATION:Heimatentrum Senne\, Staumühler Straße 70\, Hövelhof\, 33161
ATTACH;FMTTYPE=image/jpeg:https://kolpingsfamilie-hoevelhof.de/wp-content/uploads/2025/11/Jahresabschluss.jpg
END:VEVENT
BEGIN:VEVENT
DTSTART;VALUE=DATE:20251224
DTEND;VALUE=DATE:20251225
DTSTAMP:20260421T143251
CREATED:20250113T091908Z
LAST-MODIFIED:20251220T054414Z
UID:7331-1766534400-1766620799@kolpingsfamilie-hoevelhof.de
SUMMARY:Warten aufs Christkind
DESCRIPTION:
URL:https://kolpingsfamilie-hoevelhof.de/event/warten-aufs-christkind/
LOCATION:NRW
ATTACH;FMTTYPE=image/jpeg:https://kolpingsfamilie-hoevelhof.de/wp-content/uploads/2025/01/Warten-aufs-Christkind.jpg
ORGANIZER;CN="Kolpingjugend H%C3%B6velhof":MAILTO:lappe-hoevelhof@t-online.de
END:VEVENT
END:VCALENDAR