BEGIN:VCALENDAR
VERSION:2.0
PRODID:-// - ECPv6.15.12.2//NONSGML v1.0//EN
CALSCALE:GREGORIAN
METHOD:PUBLISH
X-ORIGINAL-URL:https://kolpingsfamilie-hoevelhof.de
X-WR-CALDESC:Veranstaltungen für 
REFRESH-INTERVAL;VALUE=DURATION:PT1H
X-Robots-Tag:noindex
X-PUBLISHED-TTL:PT1H
BEGIN:VTIMEZONE
TZID:Europe/Berlin
BEGIN:DAYLIGHT
TZOFFSETFROM:+0100
TZOFFSETTO:+0200
TZNAME:CEST
DTSTART:20240331T010000
END:DAYLIGHT
BEGIN:STANDARD
TZOFFSETFROM:+0200
TZOFFSETTO:+0100
TZNAME:CET
DTSTART:20241027T010000
END:STANDARD
BEGIN:DAYLIGHT
TZOFFSETFROM:+0100
TZOFFSETTO:+0200
TZNAME:CEST
DTSTART:20250330T010000
END:DAYLIGHT
BEGIN:STANDARD
TZOFFSETFROM:+0200
TZOFFSETTO:+0100
TZNAME:CET
DTSTART:20251026T010000
END:STANDARD
BEGIN:DAYLIGHT
TZOFFSETFROM:+0100
TZOFFSETTO:+0200
TZNAME:CEST
DTSTART:20260329T010000
END:DAYLIGHT
BEGIN:STANDARD
TZOFFSETFROM:+0200
TZOFFSETTO:+0100
TZNAME:CET
DTSTART:20261025T010000
END:STANDARD
BEGIN:DAYLIGHT
TZOFFSETFROM:+0100
TZOFFSETTO:+0200
TZNAME:CEST
DTSTART:20270328T010000
END:DAYLIGHT
BEGIN:STANDARD
TZOFFSETFROM:+0200
TZOFFSETTO:+0100
TZNAME:CET
DTSTART:20271031T010000
END:STANDARD
END:VTIMEZONE
BEGIN:VEVENT
DTSTART;TZID=Europe/Berlin:20260414T180000
DTEND;TZID=Europe/Berlin:20260414T193000
DTSTAMP:20260422T223015
CREATED:20260302T050702Z
LAST-MODIFIED:20260313T111302Z
UID:10281-1776189600-1776195000@kolpingsfamilie-hoevelhof.de
SUMMARY:Vom Googeln zum Prompten – Einführung in Künstliche Intelligenz
DESCRIPTION:Was ist KI? Wie stelle ich gute Fragen (Prompts)? Praktische Beispiele mit ChatGPT \nNeugierig auf das Thema Künstliche Intelligenz? In diesem kleinen Einführungskurs lernen Sie einfach und verständlich\, was KI überhaupt ist und wie Sie ChatGPT im Alltag nutzen können – ganz ohne Vorkenntnisse. Gemeinsam entdecken wir den Weg „vom Googeln zum Prompten“ und probieren erste Schritte direkt mit ChatGPT aus. \nFür wen: Anfänger und Einsteiger (begrenzte Teilnehmerzahl) \nWo: Johannes\, Raum Noha \nKursleitung: Anne Poll \nAnmeldungen: Renate Lappe (0176/57666152 oder lappe-hoevelhof@t-online.de)
URL:https://kolpingsfamilie-hoevelhof.de/event/vom-googeln-zum-prompten-einfuehrung-in-kuenstliche-intelligenz-2/
LOCATION:Johannes\, Schlossstraße 10\, Hövelhof\, NRW\, 33161\, Germany
ATTACH;FMTTYPE=image/jpeg:https://kolpingsfamilie-hoevelhof.de/wp-content/uploads/2026/03/20260303_200017.jpg
END:VEVENT
BEGIN:VEVENT
DTSTART;TZID=Europe/Berlin:20260414T140000
DTEND;TZID=Europe/Berlin:20260414T163000
DTSTAMP:20260422T223015
CREATED:20251113T063415Z
LAST-MODIFIED:20251125T132709Z
UID:9405-1776175200-1776184200@kolpingsfamilie-hoevelhof.de
SUMMARY:Werksbesichtigung Fa. ELHA Maschinenbau + BANG Ausbildungsnetzwerk Hövelhof
DESCRIPTION:Das Hövelhofer Familienunternehmen ELHA.Maschinenbau Liemke KG ist seit fast 100 Jahren ein Unternehmen zur Herstellung von Werkzeugmaschinen für die holz- und metallverarbeitende Industrie. Der Standort in der Otto-Hahn-Straße wird besucht. \nDas BANG Netzwerk Hövelhof e.V. hat seine Ausbildungswerkstatt seit 2001 in der  Fa. ELHA und ist 2025 in eine größere Werkhalle umgezogen. \nIn einer kombinierten Werksbegehung werden die beiden Bereiche vorgestellt und besichtigt. Eine Anmeldung ist erforderlich. \nInfo und Anmeldung bei Raphael Athens\, Tel.: 0170 3832241
URL:https://kolpingsfamilie-hoevelhof.de/event/werksbesichtigung-fa-elha/
LOCATION:Fa. ELHA
ATTACH;FMTTYPE=image/jpeg:https://kolpingsfamilie-hoevelhof.de/wp-content/uploads/2025/11/k-Betriebsbesichtigung-ELHA-BANG.jpg
END:VEVENT
BEGIN:VEVENT
DTSTART;TZID=Europe/Berlin:20260328T093000
DTEND;TZID=Europe/Berlin:20260328T123000
DTSTAMP:20260422T223015
CREATED:20260316T152632Z
LAST-MODIFIED:20260316T152725Z
UID:10373-1774690200-1774701000@kolpingsfamilie-hoevelhof.de
SUMMARY:Aktionsvormittag
DESCRIPTION:Hurra 🥳 unser nächster Aktionsvormittag steht vor der Tür! 🚪🧡🌸 \nAm 28. März lädt die Kolpingjugend Hövelhof alle Kinder von 5–10 Jahren zu einem kunterbunten Vormittag ein! \nFreut euch auf: Basteln\, Spielen\, Bewegen & Spaß haben 🕺🌈 \n🗓️ Wann? 28. März | 09:30–12:30 Uhr\n🏡 Wo? Ev. Gemeindehaus\, Hövelhof (Breslauer Straße 2)\n💸 Kosten: 5 €\n🧡 Anmeldung bis zum 22.03. nicht vergessen!\nAnmeldung unter: https://erzbistumpaderborn.viadesk.com/do/surveyfrontwrite?id=9066392-737572766579 \nKommt vorbei – wir freuen uns schon riesig auf einen fröhlichen Vormittag mit euch!
URL:https://kolpingsfamilie-hoevelhof.de/event/aktionsvormittag/
LOCATION:evang. Gemeindehaus\, Jägerstraße 35\, Hövelhof\, 33161\, Deutschland
ATTACH;FMTTYPE=image/jpeg:https://kolpingsfamilie-hoevelhof.de/wp-content/uploads/2026/03/2026.03.28-Aktionstag-Fruehjahr-26.jpg
ORGANIZER;CN="Kolpingjugend H%C3%B6velhof":MAILTO:lappe-hoevelhof@t-online.de
END:VEVENT
BEGIN:VEVENT
DTSTART;TZID=Europe/Berlin:20260308T150000
DTEND;TZID=Europe/Berlin:20260308T173000
DTSTAMP:20260422T223015
CREATED:20250413T080100Z
LAST-MODIFIED:20251120T082142Z
UID:7777-1772982000-1772991000@kolpingsfamilie-hoevelhof.de
SUMMARY:Mitgliederversammlung
DESCRIPTION:Liebe Kolpingschwester\, lieber Kolpingbruder\, wir danken Dir für die Unterstützung im letzten Jahr und laden Dich hiermit zu unserer diesjährigen Mitgliederversammlung mit Vorstandsneuwahlen ein: \nSonntag\, 15.06.2025\, 15:00 Uhr im Pfarrheim Hövelriege\nAnmeldung bis 01.03.2026 bei:\nRenate Lappe\, Mail: lappe-hoevelhof@t-online.de\, Tel. 05257 6502 oder\nWerner Brüggemeier\, Tel. 05257 5186\, Mail: wmbrue@gmx.de \nWeitere Infos dazu im nächsten Mitgliederbrief
URL:https://kolpingsfamilie-hoevelhof.de/event/mitgliederversammlung-5/
LOCATION:Pfarrheim Hövelriege\, Junkernallee 16\, Hövelhof\, 33161
ATTACH;FMTTYPE=image/jpeg:https://kolpingsfamilie-hoevelhof.de/wp-content/uploads/2025/11/Mitgliederversammlung.jpg
END:VEVENT
BEGIN:VEVENT
DTSTART;TZID=Europe/Berlin:20260303T180000
DTEND;TZID=Europe/Berlin:20260303T193000
DTSTAMP:20260422T223015
CREATED:20251120T075624Z
LAST-MODIFIED:20260124T143000Z
UID:9465-1772560800-1772566200@kolpingsfamilie-hoevelhof.de
SUMMARY:Vom Googeln zum Prompten – Einführung in Künstliche Intelligenz
DESCRIPTION:Was ist KI? Wie stelle ich gute Fragen (Prompts)? Praktische Beispiele mit ChatGPT \nNeugierig auf das Thema Künstliche Intelligenz? In diesem kleinen Einführungskurs lernen Sie einfach und verständlich\, was KI überhaupt ist und wie Sie ChatGPT im Alltag nutzen können – ganz ohne Vorkenntnisse. Gemeinsam entdecken wir den Weg „vom Googeln zum Prompten“ und probieren erste Schritte direkt mit ChatGPT aus. \nFür wen: Anfänger und Einsteiger (begrenzte Teilnehmerzahl) \nKursleitung: Anne Poll \nWeitere Info folgen….
URL:https://kolpingsfamilie-hoevelhof.de/event/vom-googeln-zum-prompten-einfuehrung-in-kuenstliche-intelligenz/
LOCATION:NRW
END:VEVENT
BEGIN:VEVENT
DTSTART;TZID=Europe/Berlin:20260213T180000
DTEND;TZID=Europe/Berlin:20260213T220000
DTSTAMP:20260422T223015
CREATED:20251212T195648Z
LAST-MODIFIED:20251212T195648Z
UID:9714-1771005600-1771020000@kolpingsfamilie-hoevelhof.de
SUMMARY:Kolping-Karneval    Lachen\, Schunkeln\, Tanzen
DESCRIPTION:Die Kolpingsfamilie Hövelhof lädt herzlich ein zu einer unvergesslichen Karnevalsnacht am Freitag\, 13. Februar 2026! In diesem Jahr feiern wir erstmals im Saal des Gasthofs Kersting – Altbekanntes mit frischem Schwung an einem neuen Ort! Beste Stimmung\, tolles Programm und ein Abend voller Spaß für Jung und Alt. \nFreut euch auf drei Stunden buntes Karnevalsprogramm:\n– Schwungvolle Show- und Gardetänze\n– Eine zünftige Büttenrede\n– Mitreißendes Männerballett\n– Live-Musik von „de halven Hähne“\, die den Saal zum Kochen bringen \nIm Anschluss heißt es: Ü30-Party! Tanzt\, feiert und genießt die Nacht – bis 2 Uhr morgens. \nHolt euch eure Eintrittskarten am 09.01. oder am 23.01. zwischen 17 und 18 Uhr im Gasthaus Johannes.\nDie Sitzung mit Sitzplatzreservierung inklusive Snacks und Party kostet 15 Euro (für Kolping-Mitglieder nur 13 Euro).\nDas Partyticket ab 22 Uhr kriegt ihr für 5 Euro. \nKommt vorbei und lasst mit uns die Luftschlangen durch die Luft fliegen.\nWir freuen uns auf euch!
URL:https://kolpingsfamilie-hoevelhof.de/event/kolping-karneval-lachen-schunkeln-tanzen/
LOCATION:Gasthof Kersting\, Sennestraße 95\, Hövelhof\, 33161
ATTACH;FMTTYPE=image/jpeg:https://kolpingsfamilie-hoevelhof.de/wp-content/uploads/2025/12/Kolpingkarneval-2026-Plakat-1.jpg
END:VEVENT
BEGIN:VEVENT
DTSTART;TZID=Europe/Berlin:20260123T180000
DTEND;TZID=Europe/Berlin:20260123T203000
DTSTAMP:20260422T223015
CREATED:20251107T132415Z
LAST-MODIFIED:20251120T081813Z
UID:9338-1769191200-1769200200@kolpingsfamilie-hoevelhof.de
SUMMARY:Matjesessen
DESCRIPTION:Eine der ersten Veranstaltungen im neuen Jahr ist traditionell das Matjesessen. \nAnmeldung bei: \nWerner Brüggemeier\, Tel. 5186 oder per NMail: wmbrue@gmx.de \nRenate Lappe\, Tel. 0176/57666152 \nAnmeldeschluss: Sonntag\, 18.01.2026
URL:https://kolpingsfamilie-hoevelhof.de/event/matjesessen-4/
LOCATION:Pfarrheim Hövelriege\, Junkernallee 16\, Hövelhof\, 33161
ATTACH;FMTTYPE=image/jpeg:https://kolpingsfamilie-hoevelhof.de/wp-content/uploads/2025/11/Matjes.jpg
END:VEVENT
BEGIN:VEVENT
DTSTART;TZID=Europe/Berlin:20260123T170000
DTEND;TZID=Europe/Berlin:20260123T180000
DTSTAMP:20260422T223015
CREATED:20251220T053631Z
LAST-MODIFIED:20251220T053843Z
UID:9858-1769187600-1769191200@kolpingsfamilie-hoevelhof.de
SUMMARY:Kolping-Karneval – Eintrittskartenverkauf
DESCRIPTION:Holt euch eure Eintrittskarten am 09.01. oder am 23.01. zwischen 17 und 18 Uhr im Gasthaus Johannes. Die Sitzung mit Sitzplatzreservierung inklusive Snacks und Party kostet 15 Euro (für Kolping-Mitglieder nur 13 Euro). Das Partyticket ab 22 Uhr kriegt ihr für 5 Euro.
URL:https://kolpingsfamilie-hoevelhof.de/event/kolping-karneval-eintrittskartenverkauf/
LOCATION:Gasthaus Johannes (Pfarrheim)\, Schlossstr. 10\, Hövelhof\, Germany
ATTACH;FMTTYPE=image/jpeg:https://kolpingsfamilie-hoevelhof.de/wp-content/uploads/2025/12/Kolpingkarneval-2026-Plakat-1.jpg
END:VEVENT
BEGIN:VEVENT
DTSTART;TZID=Europe/Berlin:20260118T110000
DTEND;TZID=Europe/Berlin:20260118T123000
DTSTAMP:20260422T223015
CREATED:20251126T093502Z
LAST-MODIFIED:20251127T055242Z
UID:9494-1768734000-1768739400@kolpingsfamilie-hoevelhof.de
SUMMARY:„Leben in Albanien“
DESCRIPTION:Liebe Freunde und Förderer der Albanienhilfe der Kolpingsfamilie Hövelhof\, \nseid alle herzlich eingeladen zu einem lebendigen Lichtbilder – Vortrag mit anschließendem Mittagsimbiss zum „Leben in Albanien“ mit bewegenden Eindrücken aus sechs Reisen\, die ich in zehn Jahren der Albanienhilfe gewonnen habe. Am Sonntag\, 18. Januar 2026 um 11.00 Uhr im Kirchengasthaus „Johannes“\, Schlossstr. 11. Anmeldung bis Sonntag\, 11. 1. 2026 bitte per Mail an:  lorenz.moos@gmx.de \nWir freuen uns sehr auf Ihr/dein Interesse und Ihren/deinen Besuch! \nMit adventlichen Grüßen \nLorenz Moos\, Team Albanienhilfe
URL:https://kolpingsfamilie-hoevelhof.de/event/leben-in-albanien/
LOCATION:Johannes\, Schlossstraße 10\, Hövelhof\, NRW\, 33161\, Germany
ATTACH;FMTTYPE=image/jpeg:https://kolpingsfamilie-hoevelhof.de/wp-content/uploads/2025/11/Plakat-A4-Aktion-11-2025_klein-Kopie.jpg
ORGANIZER;CN="Albanienhilfe":MAILTO:lorenz.moos@gmx.de
END:VEVENT
BEGIN:VEVENT
DTSTART;TZID=Europe/Berlin:20260110T090000
DTEND;TZID=Europe/Berlin:20260110T120000
DTSTAMP:20260422T223015
CREATED:20251107T132035Z
LAST-MODIFIED:20251120T081947Z
UID:9336-1768035600-1768046400@kolpingsfamilie-hoevelhof.de
SUMMARY:Tannenbaumaktion
DESCRIPTION:Auch in diesem Jahr hohlen wir wieder Ihren ausgedienten Weihnachtsbaum ab! \nGegen eine Spende von 5\,00 € sind Abholkarten auf dem Nikolausmarkt an der Waffelbude zu bekommen. Außerdem liegen sie im Raiffeisenmarkt\, in Ingos Biomarkt\, Hövelino Kindermoden und Franks Vinothek bereit.
URL:https://kolpingsfamilie-hoevelhof.de/event/tannenbaumaktion-2/
LOCATION:NRW
ATTACH;FMTTYPE=image/jpeg:https://kolpingsfamilie-hoevelhof.de/wp-content/uploads/2025/11/Tannenbaum.jpg
END:VEVENT
BEGIN:VEVENT
DTSTART;TZID=Europe/Berlin:20260109T170000
DTEND;TZID=Europe/Berlin:20260109T180000
DTSTAMP:20260422T223015
CREATED:20251220T053356Z
LAST-MODIFIED:20251220T053915Z
UID:9854-1767978000-1767981600@kolpingsfamilie-hoevelhof.de
SUMMARY:Kolping-Karneval - Eintrittkartenverkauf
DESCRIPTION:Holt euch eure Eintrittskarten am 09.01. oder am 23.01. zwischen 17 und 18 Uhr im Gasthaus Johannes.\nDie Sitzung mit Sitzplatzreservierung inklusive Snacks und Party kostet 15 Euro (für Kolping-Mitglieder nur 13 Euro).\nDas Partyticket ab 22 Uhr kriegt ihr für 5 Euro.
URL:https://kolpingsfamilie-hoevelhof.de/event/kolping-karneval-eintrittkartenverkauf/
LOCATION:Gasthaus Johannes (Pfarrheim)\, Schlossstr. 10\, Hövelhof\, Germany
ATTACH;FMTTYPE=image/jpeg:https://kolpingsfamilie-hoevelhof.de/wp-content/uploads/2025/12/Kolpingkarneval-2026-Plakat-1.jpg
END:VEVENT
BEGIN:VEVENT
DTSTART;VALUE=DATE:20251224
DTEND;VALUE=DATE:20251225
DTSTAMP:20260422T223015
CREATED:20250113T091908Z
LAST-MODIFIED:20251220T054414Z
UID:7331-1766534400-1766620799@kolpingsfamilie-hoevelhof.de
SUMMARY:Warten aufs Christkind
DESCRIPTION:
URL:https://kolpingsfamilie-hoevelhof.de/event/warten-aufs-christkind/
LOCATION:NRW
ATTACH;FMTTYPE=image/jpeg:https://kolpingsfamilie-hoevelhof.de/wp-content/uploads/2025/01/Warten-aufs-Christkind.jpg
ORGANIZER;CN="Kolpingjugend H%C3%B6velhof":MAILTO:lappe-hoevelhof@t-online.de
END:VEVENT
BEGIN:VEVENT
DTSTART;TZID=Europe/Berlin:20251217T180000
DTEND;TZID=Europe/Berlin:20251217T210000
DTSTAMP:20260422T223015
CREATED:20251107T131627Z
LAST-MODIFIED:20251120T082107Z
UID:9332-1765994400-1766005200@kolpingsfamilie-hoevelhof.de
SUMMARY:Jahresabschluss
DESCRIPTION:Zum Endes des Jahres treffen wir uns in gemütlicher Runde. Dabei wollen wir auf die Aktivitäten\, Veranstaltungen und Ereignisse des Jahres zurückblicken. \nGetränke und eine Suppe sind im Angebot\, dazu werden wir sicher auch wieder das ein oder andere Lied hören und mitsingen. \nAnmeldung bis zum 10.12.2025 bei: \nRenate Lappe\, Tel.  05257 6502 oder 0176 57666152
URL:https://kolpingsfamilie-hoevelhof.de/event/jahresabschluss/
LOCATION:Heimatentrum Senne\, Staumühler Straße 70\, Hövelhof\, 33161
ATTACH;FMTTYPE=image/jpeg:https://kolpingsfamilie-hoevelhof.de/wp-content/uploads/2025/11/Jahresabschluss.jpg
END:VEVENT
BEGIN:VEVENT
DTSTART;TZID=Europe/Berlin:20251213T150000
DTEND;TZID=Europe/Berlin:20251213T180000
DTSTAMP:20260422T223015
CREATED:20250815T060416Z
LAST-MODIFIED:20251114T101725Z
UID:8741-1765638000-1765648800@kolpingsfamilie-hoevelhof.de
SUMMARY:Advent mit dem Chor à la Carte
DESCRIPTION:Adventskonzert am Samstag\, den 13.12.2025 \n\nZu unseren kleinen kostenlosen Konzerten in der Hövelsenner Kapelle diesmal am Vorabend des dritten Advents laden wir herzlich ein! Immer zur vollen Stunde um 15:00\, 16:00 und 17:00 Uhr wird ein etwa halbstündiges\, weihnachtliches Konzertprogramm mit Liedern aus alter und moderner Zeit unter der Leitung von Volker Kukulenz geboten. Das idyllische Ambiente der Kapelle und die Nähe von Publikum und Sänger/innen erzeugen eine ganz besondere Stimmung. Singt gern mit\, das macht die vorweihnachtliche Atmosphäre komplett. \nIm Anschluss könnt Ihr mit Freunden und Bekannten Glühwein\, Weihnachtsgebäck und fröhliche Gespräche genießen. Wir freuen uns auf Euch!
URL:https://kolpingsfamilie-hoevelhof.de/event/advent-mit-dem-chor-a-la-carte/
LOCATION:Hövelsenner Kapelle\, Sennestraße Nr. 240\, Hövelhof\, 33161\, Deutschland
ATTACH;FMTTYPE=image/jpeg:https://kolpingsfamilie-hoevelhof.de/wp-content/uploads/2025/08/DSC_7324_2.jpg
END:VEVENT
BEGIN:VEVENT
DTSTART;TZID=Europe/Berlin:20251114T150000
DTEND;TZID=Europe/Berlin:20251114T183000
DTSTAMP:20260422T223015
CREATED:20250601T054156Z
LAST-MODIFIED:20250916T132446Z
UID:8160-1763132400-1763145000@kolpingsfamilie-hoevelhof.de
SUMMARY:Werksbesichtigung Fa. formaplan
DESCRIPTION:Als Teil der Henrichsmeyer-Gruppe verfügt formaplan über rund 100 Jahre Erfahrung im internationalen Möbelbau – mit enormer Fertigungstiefe vom Rohfixmaß bis zum fertigen Möbel. \nAuf dem ca. 135.000 m² großen Betriebsstandort in Hövelhof werden alle Fertigungsbereiche besucht. Es werden auch die neuen Maschinen und Anlagen vorgestellt\, die erst im laufe des Jahres in Betrieb gehen. \nFür diesen Werksbesuch ist eine Anmeldung erforderlich\, die Teilnehmerzahl ist begrenzt! \nInfo und Anmeldung bei Raphael Athens: r.athens@t-online.de und 0170 3832241
URL:https://kolpingsfamilie-hoevelhof.de/event/werksbesichtigung-fa-formaplan/
LOCATION:Fa. formaplan\, Gehastraße 4\, Hövelhof\, NRW\, 33161
END:VEVENT
BEGIN:VEVENT
DTSTART;TZID=Europe/Berlin:20251105T190000
DTEND;TZID=Europe/Berlin:20251105T213000
DTSTAMP:20260422T223015
CREATED:20250915T090244Z
LAST-MODIFIED:20251001T043332Z
UID:8871-1762369200-1762378200@kolpingsfamilie-hoevelhof.de
SUMMARY:Haltung in Zeiten der Spaltung
DESCRIPTION:Ein Abend mit Prof. Rahman Jamal \n——————————- \nDer Mann ohne Muttersprache – Eine bewegende Lebensgeschichte \n„Mein Name ist Rahmann und ich komme aus Paderborn“ – „Und woher kommst Du ursprünglich?“
URL:https://kolpingsfamilie-hoevelhof.de/event/haltung-in-zeiten-der-spaltung/
LOCATION:Johannes\, Schlossstraße 10\, Hövelhof\, NRW\, 33161\, Germany
END:VEVENT
BEGIN:VEVENT
DTSTART;VALUE=DATE:20251026
DTEND;VALUE=DATE:20251027
DTSTAMP:20260422T223015
CREATED:20250113T092620Z
LAST-MODIFIED:20250908T152637Z
UID:7333-1761436800-1761523199@kolpingsfamilie-hoevelhof.de
SUMMARY:Fahrt ins Phantasialand
DESCRIPTION:Wir besuchen das Phantasialand\, den Themenpark und Hotel-Resort bei Köln \nhttps://kolpingsfamilie-hoevelhof.de/kolpingjugend#2025.10.26 Anmeldung
URL:https://kolpingsfamilie-hoevelhof.de/event/fahrt-ins-phantasialand/
LOCATION:Phantasialand\, Themenpark bei Köln\, Berggeiststraße 31 - 41\, Brühl\, NRW\, 50321\, Germany
ORGANIZER;CN="Kolpingjugend H%C3%B6velhof":MAILTO:lappe-hoevelhof@t-online.de
END:VEVENT
BEGIN:VEVENT
DTSTART;TZID=Europe/Berlin:20251018T090000
DTEND;TZID=Europe/Berlin:20251018T120000
DTSTAMP:20260422T223015
CREATED:20250911T063501Z
LAST-MODIFIED:20250911T063657Z
UID:8830-1760778000-1760788800@kolpingsfamilie-hoevelhof.de
SUMMARY:Aktionstag: "Haushaltswarensammlung"
DESCRIPTION:Haushaltswaren ohne Stecker/Akku \nTeller\, Tassen\, Besteck\, Töpfe\, Pfannen\, Gläser usw. \nVerpackt in stabilen Kartons\, zu max. 30 kg – lose Ware kann nicht angenommen werden. (Ein Bananenkarton ist die ideale Verpackung)
URL:https://kolpingsfamilie-hoevelhof.de/event/aktionstag-haushaltswarensammlung/
LOCATION:Schützen- und Bürgerhaus\, Von-der-Recke-Straße 40\, Hövelhof\, NRW\, 33161
END:VEVENT
BEGIN:VEVENT
DTSTART;TZID=Europe/Berlin:20251018T090000
DTEND;TZID=Europe/Berlin:20251018T120000
DTSTAMP:20260422T223015
CREATED:20250911T063004Z
LAST-MODIFIED:20250911T063004Z
UID:8827-1760778000-1760788800@kolpingsfamilie-hoevelhof.de
SUMMARY:Aktionstag "Kleider- und Schuhsammlung
DESCRIPTION:Wir sammeln Bekleidung von Kopf bis Fuß: \nHaushaltswäsche – Heimtextilien – Lederwaren – Stoffspielwaren – Handtaschen – Schuhe (nur paarweise)
URL:https://kolpingsfamilie-hoevelhof.de/event/aktionstag-kleider-und-schuhsammlung/
LOCATION:Schützen- und Bürgerhaus\, Von-der-Recke-Straße 40\, Hövelhof\, NRW\, 33161
END:VEVENT
BEGIN:VEVENT
DTSTART;TZID=Europe/Berlin:20251003T143000
DTEND;TZID=Europe/Berlin:20251003T153000
DTSTAMP:20260422T223015
CREATED:20250815T062216Z
LAST-MODIFIED:20250818T074143Z
UID:8744-1759501800-1759505400@kolpingsfamilie-hoevelhof.de
SUMMARY:Chor à la Carte beim Hövelmarkt
DESCRIPTION:Am Hövelmarkteröffnungstag steht der Chor à la Carte auf der Bühne der Sennebar und wird aus seinem breiten Repertoire ausgewählte Lieder vorstellen und für eine gute und ausgelassene Stimmung sorgen.
URL:https://kolpingsfamilie-hoevelhof.de/event/chor-a-la-carte-beim-hoevelmarkt/
LOCATION:Einkaufsstraße Hövelhof\, Einkaufsstraße\, Hövelhof\, 33161
END:VEVENT
BEGIN:VEVENT
DTSTART;VALUE=DATE:20251003
DTEND;VALUE=DATE:20251006
DTSTAMP:20260422T223015
CREATED:20250807T062646Z
LAST-MODIFIED:20250807T062646Z
UID:8714-1759449600-1759708799@kolpingsfamilie-hoevelhof.de
SUMMARY:Waffelstand auf dem Hövelmarkt
DESCRIPTION:Freitag – Sonntag\, 03. – 05. Oktober: Hövelmarkt \nDer Startschuss fällt auch für unsere Waffelbude auf Grund des Feiertages am\n03. Oktober bereits um 11.00 Uhr. Abends gelten die Öffnungszeiten bis 22.00 (Fr. und Sa.) bzw. 19.00 Uhr (Sonntag). \n1. Aufbau der Hütte ab Dienstag\,30.09.\, Abbau 06.10.\nIm Team sind neue starke Kräfte herzlich willkommen! \n2. Einsatzplan für Backen und Verkauf am \nFreitag:\n10.30 – 13.30 Uhr\n13.30 – 16.30 Uhr\n16.30 – 19.30 Uhr (voraussichtlich Messdiener Oberrunde)\n19.30 – 22.00 Uhr plus Aufräumen \nSamstag: \nJunge Familien \nSonntag:  \n11.00 – 14.00 Uhr\n14.00 – 17.00 Uhr\n17.00 – 19.30 Uhr\nAb 19.30 Uhr Aufräumen
URL:https://kolpingsfamilie-hoevelhof.de/event/waffelstand-auf-dem-hoevelmarkt-3/
LOCATION:westliche Allee\, Allee 53\, Hövelhof\, 33161\, Deutschland
END:VEVENT
BEGIN:VEVENT
DTSTART;TZID=Europe/Berlin:20250919T180000
DTEND;TZID=Europe/Berlin:20250919T210000
DTSTAMP:20260422T223015
CREATED:20250911T064816Z
LAST-MODIFIED:20250911T064828Z
UID:8833-1758304800-1758315600@kolpingsfamilie-hoevelhof.de
SUMMARY:Bezirkswallfahrt der Kolpingsfamilien
DESCRIPTION:Der Wortgottesdienst wird von mir unter dem Thema: Das Leben ist ein Abenteuer gestaltet sowie musikalisch durch die Kolpingmusikgruppe HEAVEN AND MORE aus Verne begleitet. \nDie An- und Abreise wird von jeder Kolpingsfamilie selbst organisiert. Im Anschluss findet der gemeinsame Ausklang im Pfarrzentrum von Verne statt. Für das leibliche Wohl ist gesorgt. \n  \nGut wäre\, wenn ihr Euch bis zum 17.09.2025 an folgende Adresse anmeldet: \nFranz-Josef Otto – Ottenhauser Weg 14 – 33100 Paderborn franjootto@web.de  \n05251-66494
URL:https://kolpingsfamilie-hoevelhof.de/event/bezirkswallfahrt-der-kolpingsfamilien/
LOCATION:Brünneken – Verne\, Zum Brünneken (Maps: Ringstraße 14\, 33154 Salzkotten)\, Salzkotten Verne\, 33154
ORGANIZER;CN="Kolpingwerk BV-Paderborn":MAILTO:manfred.fortmeier@t-online.de
END:VEVENT
BEGIN:VEVENT
DTSTART;TZID=Europe/Berlin:20250907T120000
DTEND;TZID=Europe/Berlin:20250907T180000
DTSTAMP:20260422T223015
CREATED:20250807T061823Z
LAST-MODIFIED:20250807T061851Z
UID:8711-1757246400-1757268000@kolpingsfamilie-hoevelhof.de
SUMMARY:Kuchenbuffet beim Erntedankfest in Espeln
DESCRIPTION:Wir benötigen ca. 35 – 40 Kuchen. Wie immer sollten die Kuchen einmal komplett\ndurch den Ofen geschoben werden. Auf Grund der Vorgaben vom Gesundheitsamt\ndürfen keine Sahne- oder frische Schmandkuchen angeboten werden\, auch wenn sie noch so lecker sind. Ansonsten sind der Kreativität keine Grenzen gesetzt.\nSprühsahne wird von uns gestellt. \nAnnahme der Kuchen 12.00 bis 12.30 Uhr vor dem Warenkorb am Hövelmarktplatz.\nBitte alle Platten mit Namen kennzeichnen! Außerdem wäre neben der Bezeichnung\nfür den Kuchen eine Liste der Inhaltsstoffe gut\, vor allem wenn Nüsse\, Alkohol oder\nallergieauslösende Zutaten enthalten sind. \nHelfer am Sonntag\n12.30 – 13.30 Uhr (4 P.)\n13.30 – 14.30 Uhr (4+4 P.)\n14.30 – 16.30 Uhr (16 P.)\n16.30 – ?? Aufräumen\nBesondere Aufgaben: Kaffeekochen\, Spülmaschine bestücken\, Bedienung an der Theke …\nAnmeldungen bei Renate Lappe (6502 o. 0176/57666152 o. lappe-hoevelhof@t-online.de)
URL:https://kolpingsfamilie-hoevelhof.de/event/kuchenbuffet-beim-erntedankfest-in-espeln/
LOCATION:Bürgerhaus Espeln\, Espelner Straße 94\, Hövelhof\, 33161\, Germany
END:VEVENT
BEGIN:VEVENT
DTSTART;TZID=Europe/Berlin:20250809T160000
DTEND;TZID=Europe/Berlin:20250809T200000
DTSTAMP:20260422T223015
CREATED:20250529T051740Z
LAST-MODIFIED:20250529T051740Z
UID:8139-1754755200-1754769600@kolpingsfamilie-hoevelhof.de
SUMMARY:Radtour zum Kleinen Gesellen
DESCRIPTION:Radtour zum Kleinen Gesellen in Neuenkirchen\nTreffpunkt: Hövelmarktplatz\nAnmeldungen bis 26.07.2025 bei Renate Lappe\, lappe-hoevelhof@t-online.de\, 05257 6502\nBei schlechtem Wetter ist eine direkte Anreise per Auto (Fahrgemeinschaften) vorgesehen
URL:https://kolpingsfamilie-hoevelhof.de/event/radtour-zum-kleinen-gesellen-2/
LOCATION:Hövelmarkt
END:VEVENT
BEGIN:VEVENT
DTSTART;VALUE=DATE:20250726
DTEND;VALUE=DATE:20250803
DTSTAMP:20260422T223015
CREATED:20250113T091249Z
LAST-MODIFIED:20250217T052833Z
UID:7326-1753488000-1754179199@kolpingsfamilie-hoevelhof.de
SUMMARY:Zeltlager für Kinder und Jugendliche
DESCRIPTION:🌞 Die Kolpingjugend lädt alle Kinder von 8 bis 16 Jahren herzlich zum Zeltlager 2025 zur Miniburg Mastholte ein! 🌳🏕️ \n📅 Wann? – ➡️ Samstag\, 26.07. – Samstag\, 02.08.2025 \nKosten: \n🔸 120 Euro für Kolping-Mitglieder \n🔸 140 Euro für Nicht-Mitglieder \n📌 Wichtige Infos: \n– Zelte brauchst du nicht mitzubringen! \n– Die Plätze sind begrenzt\, also schnell anmelden! \n– Anmeldeschluss: 14.03.2025 \nWir freuen uns auf dich!
URL:https://kolpingsfamilie-hoevelhof.de/event/zeltlager-fuer-kinder-und-jugendliche/
LOCATION:NRW
ORGANIZER;CN="Kolpingjugend H%C3%B6velhof":MAILTO:lappe-hoevelhof@t-online.de
END:VEVENT
BEGIN:VEVENT
DTSTART;VALUE=DATE:20250705
DTEND;VALUE=DATE:20250706
DTSTAMP:20260422T223015
CREATED:20250529T051539Z
LAST-MODIFIED:20250529T051539Z
UID:8137-1751673600-1751759999@kolpingsfamilie-hoevelhof.de
SUMMARY:Fahrradwallfahrt nach Werl
DESCRIPTION:Fahrradwallfahrt nach Werl (Näheres siehe Pfarrbrief u. Rundschau) \nInfos und Anmeldungen bei Hubert Brockmann: \nTel.: 0171 8001617\,\nMail: hbrockma50@gmail.com für die Kolpingsfamilie Hövelhof
URL:https://kolpingsfamilie-hoevelhof.de/event/fahrradwallfahrt-nach-werl-2/
LOCATION:Kirchplatz – St. Joh. Nep. Hövelhof\, Schlosßstraße\, Hövelhof\, 33161
END:VEVENT
BEGIN:VEVENT
DTSTART;TZID=Europe/Berlin:20250628T160000
DTEND;TZID=Europe/Berlin:20250628T200000
DTSTAMP:20260422T223015
CREATED:20250529T051236Z
LAST-MODIFIED:20250529T051236Z
UID:8135-1751126400-1751140800@kolpingsfamilie-hoevelhof.de
SUMMARY:Sommerwanderung
DESCRIPTION:Sommerwanderung zur Kolpinghütte in Riege (Alte Schule)\nTreffpunkt: Wanderparkplatz Ecke von-der-Recke-Str./Bielefelderstr.\nAnmeldungen bis 24.06.2025 bei Renate Lappe\, lappe-hoevelhof@t-online.de\, 05257 6502
URL:https://kolpingsfamilie-hoevelhof.de/event/sommerwanderung/
LOCATION:Riege\, an der alten Schule\, Junkernallee 20\, Hövelhof\, 33161
END:VEVENT
BEGIN:VEVENT
DTSTART;TZID=Europe/Berlin:20250526T123000
DTEND;TZID=Europe/Berlin:20250526T160000
DTSTAMP:20260422T223015
CREATED:20250219T161322Z
LAST-MODIFIED:20250410T161351Z
UID:7519-1748262600-1748275200@kolpingsfamilie-hoevelhof.de
SUMMARY:Werksbesichtigung: KÖCKERLING GmbH & Co. KG
DESCRIPTION:Die Landmaschinenfabrik Köckerling mit Sitz in Verl ist bekannt für Maschinen zur pfluglosen Bodenbearbeitung. \nHeute wird der Standort Delbrück/Lippling und die Ausstellungshalle mit Mustermaschinen besucht. \nDie Teilnehmerzahl ist begrenzt\, eine Anmeldung zur Teilnahme ist bei Raphael Athens erforderlich! Mail: r.athens@t-online.de oder +49 170 3832241 \nTreffpunkt zur Abfahrt in Fahrgemeinschaften um 12:30 Uhr am Sportheim in 33161 Hövelhof. (von-der-Recke-Straße 32)
URL:https://kolpingsfamilie-hoevelhof.de/event/werksbesichtigung-koeckerling-gmbh-co-kg/
LOCATION:Köckerling  Landmaschinenfabrik\, Osterloher Feld 9\, Delbrück / Lippling\, NRW\, 33129\, Germany
END:VEVENT
BEGIN:VEVENT
DTSTART;VALUE=DATE:20250524
DTEND;VALUE=DATE:20250525
DTSTAMP:20260422T223015
CREATED:20250113T090958Z
LAST-MODIFIED:20250410T073045Z
UID:7324-1748044800-1748131199@kolpingsfamilie-hoevelhof.de
SUMMARY:Aktionsvormittag für Kinder
DESCRIPTION:Aktionsvormittag – Spiel\, Spaß\, Basteln für Kinder \nDie Kolpingjugend Hövelhof lädt am 24. Mai 2025 alle Kinder im Alter von 5 bis 10 Jahren zu einem gemeinsamen Vormittag ein. \nVon 9:30 Uhr bis 12:00 Uhr treffen wir uns im Evangelischen Gemeindehaus (Breslauer Str. 2 in Hövelhof). \nWir spielen\, basteln und naschen frische Waffeln. Der Unkostenbeitrag liegt bei 5 Euro pro Kind. \nAnmeldung bis zum 15. Mai über den QR-Code.
URL:https://kolpingsfamilie-hoevelhof.de/event/aktionsvormittag-fuer-kinder/
LOCATION:Gemeindehaus der ev. Kirchengemeinde Hövelhof\, Breslauer Straße 2\, Hövelhof\, 33161\, Deutschland
ORGANIZER;CN="Kolpingjugend H%C3%B6velhof":MAILTO:lappe-hoevelhof@t-online.de
END:VEVENT
BEGIN:VEVENT
DTSTART;VALUE=DATE:20250323
DTEND;VALUE=DATE:20250324
DTSTAMP:20260422T223015
CREATED:20250113T090741Z
LAST-MODIFIED:20250313T104643Z
UID:7321-1742688000-1742774399@kolpingsfamilie-hoevelhof.de
SUMMARY:Frühlingswanderung
DESCRIPTION:Frühlingswanderung für alle\, die Lust haben und sich jung fühlen. \nSave-the-Date \n 
URL:https://kolpingsfamilie-hoevelhof.de/event/fruehlingswanderung/
LOCATION:Pfarrheim Hövelriege\, Junkernallee 16\, Hövelhof\, 33161
ORGANIZER;CN="Kolpingjugend H%C3%B6velhof":MAILTO:lappe-hoevelhof@t-online.de
END:VEVENT
END:VCALENDAR