BEGIN:VCALENDAR
VERSION:2.0
PRODID:-// - ECPv6.15.12.2//NONSGML v1.0//EN
CALSCALE:GREGORIAN
METHOD:PUBLISH
X-ORIGINAL-URL:https://kolpingsfamilie-hoevelhof.de
X-WR-CALDESC:Veranstaltungen für 
REFRESH-INTERVAL;VALUE=DURATION:PT1H
X-Robots-Tag:noindex
X-PUBLISHED-TTL:PT1H
BEGIN:VTIMEZONE
TZID:Europe/Berlin
BEGIN:DAYLIGHT
TZOFFSETFROM:+0100
TZOFFSETTO:+0200
TZNAME:CEST
DTSTART:20220327T010000
END:DAYLIGHT
BEGIN:STANDARD
TZOFFSETFROM:+0200
TZOFFSETTO:+0100
TZNAME:CET
DTSTART:20221030T010000
END:STANDARD
BEGIN:DAYLIGHT
TZOFFSETFROM:+0100
TZOFFSETTO:+0200
TZNAME:CEST
DTSTART:20230326T010000
END:DAYLIGHT
BEGIN:STANDARD
TZOFFSETFROM:+0200
TZOFFSETTO:+0100
TZNAME:CET
DTSTART:20231029T010000
END:STANDARD
BEGIN:DAYLIGHT
TZOFFSETFROM:+0100
TZOFFSETTO:+0200
TZNAME:CEST
DTSTART:20240331T010000
END:DAYLIGHT
BEGIN:STANDARD
TZOFFSETFROM:+0200
TZOFFSETTO:+0100
TZNAME:CET
DTSTART:20241027T010000
END:STANDARD
END:VTIMEZONE
BEGIN:VEVENT
DTSTART;TZID=Europe/Berlin:20230523T100000
DTEND;TZID=Europe/Berlin:20230523T170000
DTSTAMP:20260420T112513
CREATED:20230502T121803Z
LAST-MODIFIED:20230504T180827Z
UID:4813-1684836000-1684861200@kolpingsfamilie-hoevelhof.de
SUMMARY:Waffelverkauf vor dem E-Center und dem Elli-Markt
DESCRIPTION:Unter dem Motto „Tag der Werte“ unterstützt das 4./Panzerbataillon aus Augustdorf am Dienstag\, 23.05.2023 „Brot & mehr“ mit einer Aktion in den Lüning-Märkten in Hövelhof. An diesem Tag kommen 10 Soldaten und Soldatinnen des Panzer-Bataillons nach Hövelhof um sich in sozialen Bereichen zu engagieren. Ab 10.00 Uhr werden sie das Helferteam von „Brot & mehr“ beim Waffelbacken und -verteilen im Eingangsbereich vom Elli-Markt und vor dem E-Center unterstützen. Der Spendenerlös wird für die Unterstützung der bedürftigen Kunden von „Brot & mehr“ Lebensmittelhilfe Hövelhof eingesetzt.
URL:https://kolpingsfamilie-hoevelhof.de/event/waffelverkauf-vor-dem-e-center-und-dem-elli-markt/
LOCATION:ELLI-Markt\, 33161
END:VEVENT
END:VCALENDAR